BEGIN:VCALENDAR
VERSION:2.0
PRODID:-//Virgínia Rosa - ECPv4.3.2//NONSGML v1.0//EN
CALSCALE:GREGORIAN
METHOD:PUBLISH
X-WR-CALNAME:Virgínia Rosa
X-ORIGINAL-URL:http://virginiarosa.com.br
X-WR-CALDESC:Events for Virgínia Rosa
BEGIN:VEVENT
DTSTART;VALUE=DATE:20210423
DTEND;VALUE=DATE:20210423
DTSTAMP:20260422T024852
CREATED:20210813T230110Z
LAST-MODIFIED:20210813T230110Z
UID:1249-1619136000-1619222399@virginiarosa.com.br
SUMMARY:Virginía Rosa em FAZ ESCURO MAS EU CANTO part. especial Ogair Junior (musica)
DESCRIPTION:Com o tom esperançoso\, o show “Faz Escuro Mas Eu Canto”\, da cantora e atriz Virgínia Rosa\, acompanhada ao piano pelo maestro Ogair Júnior\, resgata músicas de seu repertório com novas interpretações.\n\n
URL:http://virginiarosa.com.br/events/virginia-rosa-em-faz-escuro-mas-eu-canto-part-especial-ogair-junior-musica/
CATEGORIES:Agenda,Agenda Home
END:VEVENT
END:VCALENDAR