BEGIN:VCALENDAR
VERSION:2.0
PRODID:-//Virgínia Rosa - ECPv4.3.2//NONSGML v1.0//EN
CALSCALE:GREGORIAN
METHOD:PUBLISH
X-WR-CALNAME:Virgínia Rosa
X-ORIGINAL-URL:http://virginiarosa.com.br
X-WR-CALDESC:Events for Virgínia Rosa
BEGIN:VEVENT
DTSTART;VALUE=DATE:20211203
DTEND;VALUE=DATE:20211204
DTSTAMP:20260421T185336
CREATED:20211202T203727Z
LAST-MODIFIED:20211202T205720Z
UID:1307-1638489600-1638662399@virginiarosa.com.br
SUMMARY:Virgínia Rosa Canta Clara
DESCRIPTION:Sesc Ipiranga\n\n\nVirgínia Rosa e banda interpretam os sucessos de Clara Nunes e algumas músicas que confirmam que Clara era uma grande interprete da MPB\, além da sambista genial e consagrada.\n\nLocal: Teatro\n\n\n\n
URL:http://virginiarosa.com.br/events/virginia-rosa-canta-clara-13/
CATEGORIES:Agenda,Agenda Home
END:VEVENT
END:VCALENDAR