BEGIN:VCALENDAR
VERSION:2.0
PRODID:-//Virgínia Rosa - ECPv4.3.2//NONSGML v1.0//EN
CALSCALE:GREGORIAN
METHOD:PUBLISH
X-WR-CALNAME:Virgínia Rosa
X-ORIGINAL-URL:http://virginiarosa.com.br
X-WR-CALDESC:Events for Virgínia Rosa
BEGIN:VEVENT
DTSTART;TZID=UTC+0:20190325T193000
DTEND;TZID=UTC+0:20190325T210000
DTSTAMP:20260422T174730
CREATED:20190214T132754Z
LAST-MODIFIED:20190214T132754Z
UID:1193-1553542200-1553547600@virginiarosa.com.br
SUMMARY:VIRGÍNIA ROSA CANTA CLARA
DESCRIPTION:Show  VIRGÍNIA ROSA CANTA CLARA\n\n\nDia 25 de Março\n\nSão Paulo - SP\n\n\nSesc Carmo\n\nSegunda-feira ás 19h30
URL:http://virginiarosa.com.br/events/virginia-rosa-canta-clara-12/
LOCATION: R. do Carmo\, 147 - Sé\, São Paulo\, São Paulo\, 01019-020\, Brasil
CATEGORIES:Agenda,Agenda Home
ATTACH;FMTTYPE=image/jpeg:http://virginiarosa.com.br/wp-content/uploads/2019/02/evento-3.jpg
END:VEVENT
END:VCALENDAR