BEGIN:VCALENDAR
VERSION:2.0
PRODID:-//Virgínia Rosa - ECPv4.3.2//NONSGML v1.0//EN
CALSCALE:GREGORIAN
METHOD:PUBLISH
X-WR-CALNAME:Virgínia Rosa
X-ORIGINAL-URL:http://virginiarosa.com.br
X-WR-CALDESC:Events for Virgínia Rosa
BEGIN:VEVENT
DTSTART;TZID=UTC+0:20190518T210000
DTEND;TZID=UTC+0:20190518T223000
DTSTAMP:20260422T142926
CREATED:20190508T123310Z
LAST-MODIFIED:20190508T123310Z
UID:1201-1558213200-1558218600@virginiarosa.com.br
SUMMARY:Virada Cultural
DESCRIPTION:Virada Cultural\nDia 18 às 21 horas\n\nVirgínia Rosa & Ogair Junior\n\nProjeto A Voz e o Violão...o Piano e a Cantora\n\nSala Olido\n\nAv. São João\, 473
URL:http://virginiarosa.com.br/events/virada-cultural/
LOCATION: Av. São João\, 473 - Centro\, São Paulo\, São Paulo\, Brasil
CATEGORIES:Agenda,Agenda Home
ATTACH;FMTTYPE=image/jpeg:http://virginiarosa.com.br/wp-content/uploads/2019/05/projeto_cultural.jpg
END:VEVENT
END:VCALENDAR