BEGIN:VCALENDAR
VERSION:2.0
PRODID:-//Virgínia Rosa - ECPv4.3.2//NONSGML v1.0//EN
CALSCALE:GREGORIAN
METHOD:PUBLISH
X-WR-CALNAME:Virgínia Rosa
X-ORIGINAL-URL:http://virginiarosa.com.br
X-WR-CALDESC:Events for Virgínia Rosa
BEGIN:VEVENT
DTSTART;VALUE=DATE:20211010
DTEND;VALUE=DATE:20211010
DTSTAMP:20260421T233401
CREATED:20211012T155856Z
LAST-MODIFIED:20211012T160006Z
UID:1297-1633824000-1633910399@virginiarosa.com.br
SUMMARY:Show "Virgínia Rosa Canta Clara" - Em Rio Claro
DESCRIPTION:Festival de Culinária Afro - Brasileira\nDia 10 de Outubro às 16h30 - Domingo\nLago Azul\nProjeto 4:30\n\n
URL:http://virginiarosa.com.br/events/show-virginia-rosa-canta-clara-em-rio-claro/
CATEGORIES:Agenda,Agenda Home
END:VEVENT
END:VCALENDAR