BEGIN:VCALENDAR
VERSION:2.0
PRODID:-//Virgínia Rosa - ECPv4.3.2//NONSGML v1.0//EN
CALSCALE:GREGORIAN
METHOD:PUBLISH
X-WR-CALNAME:Virgínia Rosa
X-ORIGINAL-URL:http://virginiarosa.com.br
X-WR-CALDESC:Events for Virgínia Rosa
BEGIN:VEVENT
DTSTART;TZID=UTC+0:20190726T210000
DTEND;TZID=UTC+0:20190726T210000
DTSTAMP:20260422T085342
CREATED:20190702T130119Z
LAST-MODIFIED:20190702T130119Z
UID:1215-1564174800-1564174800@virginiarosa.com.br
SUMMARY:Show "SORRISOS"
DESCRIPTION:Para lembrar os 95 anos do compositor Paulo Vanzolini\, que teriam sido completados em maio passado\, Virgínia Rosa sobe ao palco do Teatro Paulo Autran\, no SESC Pinheiros\, em São Paulo\, acompanhada de quatro excelentes músicos e de três convidados muito especiais: as cantoras Áurea Martins e Ellen Oléria\, e o acordeonista Toninho Ferragutti. Sucessos com Ronda e Volta Por Cima estão garantidos no repertório do show.\n\nDireção musical: Ogair Júnior\nDireção artística e roteiro: Fernando Cardoso\nProdução: Mesa 2
URL:http://virginiarosa.com.br/events/show-sorrisos/
LOCATION:Rua Pais Leme\, São Paulo\, São Paulo\, 05424150\, Brasil
CATEGORIES:Agenda,Agenda Home
ATTACH;FMTTYPE=image/png:http://virginiarosa.com.br/wp-content/uploads/2019/07/sorrisos.png
END:VEVENT
END:VCALENDAR