BEGIN:VCALENDAR
VERSION:2.0
PRODID:-//Virgínia Rosa - ECPv4.3.2//NONSGML v1.0//EN
CALSCALE:GREGORIAN
METHOD:PUBLISH
X-WR-CALNAME:Virgínia Rosa
X-ORIGINAL-URL:http://virginiarosa.com.br
X-WR-CALDESC:Events for Virgínia Rosa
BEGIN:VEVENT
DTSTART;VALUE=DATE:20220304
DTEND;VALUE=DATE:20220304
DTSTAMP:20260421T155422
CREATED:20220225T213950Z
LAST-MODIFIED:20220225T213950Z
UID:1319-1646352000-1646438399@virginiarosa.com.br
SUMMARY:Show "SORRISOS" uma homenagem a Paulo Vanzolini
DESCRIPTION:\nDia 04/03 às  19h\n\nSala Adoniran Barbosa\nCentro Cultural São Paulo\nGratuito\n\n
URL:http://virginiarosa.com.br/events/show-sorrisos-uma-homenagem-a-paulo-vanzolini/
CATEGORIES:Agenda,Agenda Home
END:VEVENT
END:VCALENDAR