BEGIN:VCALENDAR
VERSION:2.0
PRODID:-//Virgínia Rosa - ECPv4.3.2//NONSGML v1.0//EN
CALSCALE:GREGORIAN
METHOD:PUBLISH
X-WR-CALNAME:Virgínia Rosa
X-ORIGINAL-URL:http://virginiarosa.com.br
X-WR-CALDESC:Events for Virgínia Rosa
BEGIN:VEVENT
DTSTART;VALUE=DATE:20230518
DTEND;VALUE=DATE:20230518
DTSTAMP:20260420T212319
CREATED:20230515T032724Z
LAST-MODIFIED:20230515T032915Z
UID:1384-1684368000-1684454399@virginiarosa.com.br
SUMMARY:Show Sorrisos
DESCRIPTION:\n\nMAIO\nDia 18/05 às 20h30\n\nShow "Sorrisos"\nSesc Osasco\nTeatro Municipal de Osasco\nA afinidade entre Virgínia Rosa e Paulo Vanzolini vai muito além do fato de ambos serem paulistas. Em 1987\, quando integrava a banda Mexe com Tudo\, no início de sua carreira\, Virgínia Rosa foi convidada para cantar\, junto com Passoca\, as composições de Vanzolini no disco Inéditas.\n\nÉ impossível falar da noite e do samba de São Paulo sem falar de Paulo Vanzolini\, um dos mais importantes representantes do samba paulista. Neste show\, que lembra os 95 anos de nascimento de Vanzolini\, Virgínia Rosa interpreta composições de Vanzolini como “Cuitelinho”\,”Volta por Cima”\, “Volta Depressa”\, “Boca da Noite” (escrita em parceria com Toquinho) e “Ronda”\, seu maior sucesso.\n\nVoz: Virgínia Rosa; Direção musical\, arranjos piano e acordeom: Ogair Junior; Bandolin e Violões: Dino Barioni; Percussão: Ramon Montagner; Baixo acústico: Robertinho Carvalho.\n\nLocal: Teatro Municipal de Osasco – Avenida dos Autonomistas\, 1533\, Vila Campesina\, Osasco – SP.
URL:http://virginiarosa.com.br/events/show-sorrisos-2/
CATEGORIES:Agenda,Agenda Home
END:VEVENT
END:VCALENDAR