BEGIN:VCALENDAR
VERSION:2.0
PRODID:-//Virgínia Rosa - ECPv4.3.2//NONSGML v1.0//EN
CALSCALE:GREGORIAN
METHOD:PUBLISH
X-WR-CALNAME:Virgínia Rosa
X-ORIGINAL-URL:http://virginiarosa.com.br
X-WR-CALDESC:Events for Virgínia Rosa
BEGIN:VEVENT
DTSTART;VALUE=DATE:20220319
DTEND;VALUE=DATE:20220319
DTSTAMP:20260421T153823
CREATED:20220316T112618Z
LAST-MODIFIED:20220316T112649Z
UID:1323-1647648000-1647734399@virginiarosa.com.br
SUMMARY:Show "Nêga Música!"
DESCRIPTION:Dia 19/03 às 21h30\nPiracaia\n\nShow "Nêga Música!"\nVirgínia Rosa & Ogair Junior\nVoz e piano\nCasa Viva Piracaia\nPraça Julio de Mesquita n 56\, 12970-000 Piracaia\, SP\nFaça a sua reserva pelo whatsapp\n(11) 96181.5321\n\n
URL:http://virginiarosa.com.br/events/show-nega-musica/
CATEGORIES:Agenda,Agenda Home
END:VEVENT
END:VCALENDAR