BEGIN:VCALENDAR
VERSION:2.0
PRODID:-//Virgínia Rosa - ECPv4.3.2//NONSGML v1.0//EN
CALSCALE:GREGORIAN
METHOD:PUBLISH
X-WR-CALNAME:Virgínia Rosa
X-ORIGINAL-URL:http://virginiarosa.com.br
X-WR-CALDESC:Events for Virgínia Rosa
BEGIN:VEVENT
DTSTART;VALUE=DATE:20230323
DTEND;VALUE=DATE:20230323
DTSTAMP:20260421T003337
CREATED:20230306T040115Z
LAST-MODIFIED:20230306T040115Z
UID:1375-1679529600-1679615999@virginiarosa.com.br
SUMMARY:Show Monsueto e Outros Negões
DESCRIPTION:Dia 23 às 19h\n\nA cantora e atriz Virgínia Rosa revisita a obra de Monsueto Campos de Menezes\, cantor\, sambista\, pintor\, instrumentista\, ator e compositor carioca para lembrá-lo no cinquentenário de sua morte\, em 1973. No show\, Virgínia é acompanhada de um quarteto de músicos\, sob o comando do maestro e pianista Ogair Júnior.\n\nCriador de clássicos como “Me Deixa Em Paz”\, “A Fonte Secou”\, “Mora na Filosofia”\, entre outros\, Monsueto foi homenageado por Virgínia Rosa com o disco "Baita Negão"\, lançando pelo Selo Sesc em 2008 e recentemente disponibilizado nas plataformas digitais.\n\nNo show\, a artista apresenta\, além de composições de Monsueto\, músicas de “outros negões” que fazem parte da sua formação musical: Luiz Melodia\, Tim Maia\, Cartola e\, obviamente Itamar Assumpção\, com quem Virgínia iniciou sua carreira artística\, na banda “Isca de Polícia”.\n\nSesc Carmo\nR. do Carmo\, 147 - Sé\, São Paulo - SP\n\n
URL:http://virginiarosa.com.br/events/show-monsueto-e-outros-negoes/
CATEGORIES:Agenda,Agenda Home
END:VEVENT
END:VCALENDAR