BEGIN:VCALENDAR
VERSION:2.0
PRODID:-//Virgínia Rosa - ECPv4.3.2//NONSGML v1.0//EN
CALSCALE:GREGORIAN
METHOD:PUBLISH
X-WR-CALNAME:Virgínia Rosa
X-ORIGINAL-URL:http://virginiarosa.com.br
X-WR-CALDESC:Events for Virgínia Rosa
BEGIN:VEVENT
DTSTART;VALUE=DATE:20230310
DTEND;VALUE=DATE:20230311
DTSTAMP:20260421T020954
CREATED:20230306T035829Z
LAST-MODIFIED:20230306T035851Z
UID:1372-1678406400-1678579199@virginiarosa.com.br
SUMMARY:Show  Banda Mantiqueira Convida Virgínia Rosa
DESCRIPTION:Dias 10 e 11 às 21h\n\nLiderados por Nailor Proveta\, os 15 integrantes da Banda Mantiqueira executam um repertório que prioriza os ritmos brasileiros como samba\, samba-canção\, baião\, maracatu\, forró\, em primorosos arranjos feitos para canções de consagrados autores da nossa música – Dorival Caymmi\, Luiz Gonzaga\, Tom Jobim\, Cartola\, João Bosco\, etc. Neste show\, eles se apresentam com a cantora Virgínia Rosa.\n\nOs integrantes da banda Mantiqueira\, individualmente\, exercem intensa atividade nos estúdios de gravação e figuram nas fichas técnicas dos mais importantes discos gravados por uma gama variada de artistas. Compõem\, também\, bandas que acompanham expressivas figuras do cenário artístico nacional e internacional. Neste show eles se apresentam com a cantora Virginia Rosa\, dona de uma voz única e uma longa carreira musical Virginia também atua e já foi integrante da banda Isca de Polícia\, banda de Itamar Assumpção.\n\nLocal\nSesc Ipiranga\nR. Bom Pastor\, 822 - Ipiranga\, São Paulo\n\n
URL:http://virginiarosa.com.br/events/show-banda-mantiqueira-convida-virginia-rosa/
CATEGORIES:Agenda,Agenda Home
END:VEVENT
END:VCALENDAR