BEGIN:VCALENDAR
VERSION:2.0
PRODID:-//Virgínia Rosa - ECPv4.3.2//NONSGML v1.0//EN
CALSCALE:GREGORIAN
METHOD:PUBLISH
X-WR-CALNAME:Virgínia Rosa
X-ORIGINAL-URL:http://virginiarosa.com.br
X-WR-CALDESC:Events for Virgínia Rosa
BEGIN:VEVENT
DTSTART;VALUE=DATE:20211125
DTEND;VALUE=DATE:20211125
DTSTAMP:20260421T202356
CREATED:20211126T122426Z
LAST-MODIFIED:20211126T122426Z
UID:1305-1637798400-1637884799@virginiarosa.com.br
SUMMARY:PROCESSOS  CRIATIVOS
DESCRIPTION:Dia 25 de novembro QUINTA-FEIRA 20h\, via plataforma ZOOM O link para participar do encontro será enviado por e-mail após o preenchimento deste formulário.\n\nVirgínia Rosa\, cantora e atriz\, bisneta de indígena e filha de mineiros\, com longa carreira nos palcos e nas telas\, conversará com Solange Ferreira\, professora da ESCH\, sobre sua trajetória artística.\nConvidamos você para esse bate-papo muito especial!\n\nPara participar tem que acessar este link: https://forms.gle/boJfZhKe2U5jstQv9
URL:http://virginiarosa.com.br/events/processos-criativos/
CATEGORIES:Agenda,Agenda Home
END:VEVENT
END:VCALENDAR