BEGIN:VCALENDAR
VERSION:2.0
PRODID:-//Virgínia Rosa - ECPv4.3.2//NONSGML v1.0//EN
CALSCALE:GREGORIAN
METHOD:PUBLISH
X-WR-CALNAME:Virgínia Rosa
X-ORIGINAL-URL:http://virginiarosa.com.br
X-WR-CALDESC:Events for Virgínia Rosa
BEGIN:VEVENT
DTSTART;VALUE=DATE:20230930
DTEND;VALUE=DATE:20230930
DTSTAMP:20260420T085103
CREATED:20230915T020517Z
LAST-MODIFIED:20230915T020517Z
UID:1419-1696032000-1696118399@virginiarosa.com.br
SUMMARY:Palavra de Mulher - Uberlândia - MG
DESCRIPTION:Dia 30 /09 às 20h\n\nUberlândia - MG\nPalavra de Mulher\nTeatro Municipal de Uberlândia\nAv. Rondon Pacheco\, 7070\nIngressos: https://megabilheteria.com/evento?id=20230711105634\n\n
URL:http://virginiarosa.com.br/events/palavra-de-mulher-uberlandia-mg/
CATEGORIES:Agenda,Agenda Home
END:VEVENT
END:VCALENDAR