BEGIN:VCALENDAR
VERSION:2.0
PRODID:-//Virgínia Rosa - ECPv4.3.2//NONSGML v1.0//EN
CALSCALE:GREGORIAN
METHOD:PUBLISH
X-WR-CALNAME:Virgínia Rosa
X-ORIGINAL-URL:http://virginiarosa.com.br
X-WR-CALDESC:Events for Virgínia Rosa
BEGIN:VEVENT
DTSTART;VALUE=DATE:20230715
DTEND;VALUE=DATE:20230716
DTSTAMP:20260420T162351
CREATED:20230702T121732Z
LAST-MODIFIED:20230702T121732Z
UID:1395-1689379200-1689551999@virginiarosa.com.br
SUMMARY:Palavra de Mulher - Sesc Palladium / Belo Horizonte
DESCRIPTION:Dias 15 e 16 julho\nSábado às 21h\nDomingo às 19h\n\nBelo Horizonte\nSesc Palladium\n\nHá 15 anos em cartaz\, no espetáculo PALAVRA DE MULHER\, um misto de show e teatro\, Lucinha Lins\, Tania Alves e Virgínia Rosa revisitam o universo feminino a partir das canções de Chico Buarque. Neste momento\, em que a condição e o empoderamento da mulher estão no centro do debate\, as atrizes cantam e encantam\, fazem rir e fazem chorar enquanto emprestam seus corpos e suas vozes a tantas outras mulheres para\, num clima de cabaré\, falar\, através da música\, de amores\, dores de amores\, esperança\, solidão\, encontros\, desencontros\, sedução\, felicidade\, força\, abandono\, liberdade\, sonhos e conquistas. Sucesso de crítica (em 2014\, foi indicado em 4 categorias ao prêmio Bibi Ferreira) e de público\, o espetáculo já foi visto por mais de 250 mil pessoas em mais de 60 cidades país afora.\n\n
URL:http://virginiarosa.com.br/events/palavra-de-mulher-sesc-palladium-belo-horizonte/
CATEGORIES:Agenda,Agenda Home
END:VEVENT
END:VCALENDAR