BEGIN:VCALENDAR
VERSION:2.0
PRODID:-//Virgínia Rosa - ECPv4.3.2//NONSGML v1.0//EN
CALSCALE:GREGORIAN
METHOD:PUBLISH
X-WR-CALNAME:Virgínia Rosa
X-ORIGINAL-URL:http://virginiarosa.com.br
X-WR-CALDESC:Events for Virgínia Rosa
BEGIN:VEVENT
DTSTART;VALUE=DATE:20230903
DTEND;VALUE=DATE:20230903
DTSTAMP:20260420T102150
CREATED:20230815T024159Z
LAST-MODIFIED:20230815T024159Z
UID:1415-1693699200-1693785599@virginiarosa.com.br
SUMMARY:Palavra de Mulher - Itatiba - SP
DESCRIPTION:ITATIBA - São Paulo\nDia 03/09 às 21h\nShow Palavra de Mulher\nItatiba Esporte Clube\nRua Piza e Almeida\,592\nIngresso: https://www.megabilheteria.com/evento?id=20230804161025\n\n
URL:http://virginiarosa.com.br/events/palavra-de-mulher-itatiba-sp/
CATEGORIES:Agenda,Agenda Home
END:VEVENT
END:VCALENDAR