BEGIN:VCALENDAR
VERSION:2.0
PRODID:-//Virgínia Rosa - ECPv4.3.2//NONSGML v1.0//EN
CALSCALE:GREGORIAN
METHOD:PUBLISH
X-WR-CALNAME:Virgínia Rosa
X-ORIGINAL-URL:http://virginiarosa.com.br
X-WR-CALDESC:Events for Virgínia Rosa
BEGIN:VEVENT
DTSTART;TZID=UTC+0:20190904T200000
DTEND;TZID=UTC+0:20190904T200000
DTSTAMP:20260422T043132
CREATED:20190801T141413Z
LAST-MODIFIED:20190801T141413Z
UID:1227-1567627200-1567627200@virginiarosa.com.br
SUMMARY:Palavra de Mulher
DESCRIPTION:Lucinha Lins\, Tania Alves e Virgínia Rosa emprestam voz\, corpo e sentimento a outras mulheres\, reveladas nas belas canções de Chico Buarque. Em "Palavra de Mulher" elas contam e interpretam esse universo feminino num clima de cabaré\, com um repertório variado como "Tatuagem"\, "Folhetim" e "Terezinha"\, entre outras.
URL:http://virginiarosa.com.br/events/palavra-de-mulher-29/
LOCATION:R. Bom Pastor\, 822 - Ipiranga\, São Paulo\, São Paulo\, 04203-001\, Brasil
CATEGORIES:Agenda,Agenda Home
ATTACH;FMTTYPE=image/jpeg:http://virginiarosa.com.br/wp-content/uploads/2019/08/Foto-Joao-Caldas-F_106163a.jpg
END:VEVENT
END:VCALENDAR