BEGIN:VCALENDAR
VERSION:2.0
PRODID:-//Virgínia Rosa - ECPv4.3.2//NONSGML v1.0//EN
CALSCALE:GREGORIAN
METHOD:PUBLISH
X-WR-CALNAME:Virgínia Rosa
X-ORIGINAL-URL:http://virginiarosa.com.br
X-WR-CALDESC:Events for Virgínia Rosa
BEGIN:VEVENT
DTSTART;TZID=UTC+0:20190713T210000
DTEND;TZID=UTC+0:20190713T223000
DTSTAMP:20260422T114959
CREATED:20190508T124336Z
LAST-MODIFIED:20190508T124336Z
UID:1208-1563051600-1563057000@virginiarosa.com.br
SUMMARY:Palavra de Mulher
DESCRIPTION:Palavra de Mulher\n10 Anos De Sucesso \n\nDia 13 - Sábado às 21h\n\nTeatro Procópio Ferreira\n\nRua Augusta\, 2823\n
URL:http://virginiarosa.com.br/events/palavra-de-mulher-27/
LOCATION:Rua Augusta\, 2823\, São Paulo\, São Paulo\, 01412-100\, Brasil
CATEGORIES:Agenda,Agenda Home
ATTACH;FMTTYPE=image/jpeg:http://virginiarosa.com.br/wp-content/uploads/2019/05/palavra-julho.jpg
END:VEVENT
END:VCALENDAR