BEGIN:VCALENDAR
VERSION:2.0
PRODID:-//Virgínia Rosa - ECPv4.3.2//NONSGML v1.0//EN
CALSCALE:GREGORIAN
METHOD:PUBLISH
X-WR-CALNAME:Virgínia Rosa
X-ORIGINAL-URL:http://virginiarosa.com.br
X-WR-CALDESC:Events for Virgínia Rosa
BEGIN:VEVENT
DTSTART;VALUE=DATE:20230901
DTEND;VALUE=DATE:20230901
DTSTAMP:20260420T131355
CREATED:20230815T023604Z
LAST-MODIFIED:20230815T023851Z
UID:1405-1693526400-1693612799@virginiarosa.com.br
SUMMARY:Palavra de Mulher - São Paulo - SP
DESCRIPTION:SÃO PAULO - Tatuapé\nDia 01/09 às 21h\nTeatro Fernando Torres\nRua Padre Estevão Pernet\, 588\nIngressos: https://bileto.sympla.com.br/event/85594/d/210115/s/1418233\n\n
URL:http://virginiarosa.com.br/events/palavra-de-mulher-0109/
CATEGORIES:Agenda,Agenda Home
END:VEVENT
END:VCALENDAR