BEGIN:VCALENDAR
VERSION:2.0
PRODID:-//Virgínia Rosa - ECPv4.3.2//NONSGML v1.0//EN
CALSCALE:GREGORIAN
METHOD:PUBLISH
X-WR-CALNAME:Virgínia Rosa
X-ORIGINAL-URL:http://virginiarosa.com.br
X-WR-CALDESC:Events for Virgínia Rosa
BEGIN:VEVENT
DTSTART;VALUE=DATE:20221216
DTEND;VALUE=DATE:20221216
DTSTAMP:20260421T051703
CREATED:20221202T214259Z
LAST-MODIFIED:20221202T214316Z
UID:1365-1671148800-1671235199@virginiarosa.com.br
SUMMARY:Lançamento da canção À Primeira Vista
DESCRIPTION:Dia 16 DEZ\n\nA interpretação de Virgínia Rosa acompanhada da Banda Mantiqueira para a canção À Primeira Vista estará disponível a partir deste mês\, nas plataformas digitais.Vale a curiosidade:Virgínia foi a primeira intérprete do sucesso de Chico César.\n\n \n\n
URL:http://virginiarosa.com.br/events/lancamento-da-cancao-a-primeira-vista/
CATEGORIES:Agenda,Agenda Home
END:VEVENT
END:VCALENDAR