BEGIN:VCALENDAR
VERSION:2.0
PRODID:-//Virgínia Rosa - ECPv4.3.2//NONSGML v1.0//EN
CALSCALE:GREGORIAN
METHOD:PUBLISH
X-WR-CALNAME:Virgínia Rosa
X-ORIGINAL-URL:http://virginiarosa.com.br
X-WR-CALDESC:Events for Virgínia Rosa
BEGIN:VEVENT
DTSTART;VALUE=DATE:20190930
DTEND;VALUE=DATE:20190930
DTSTAMP:20260422T024423
CREATED:20190927T130602Z
LAST-MODIFIED:20190927T131020Z
UID:1232-1569801600-1569887999@virginiarosa.com.br
SUMMARY:Éramos Seis
DESCRIPTION:Éramos Seis é uma telenovela brasileira produzida e exibida pela Rede Globo a partir de 30 de setembro de 2019\, substituindo Órfãos da Terra. Será a 94.ª "novela das seis" exibida pela emissora. Baseada na romance de mesmo título de Maria José Dupré\, é adaptada por Ângela Chaves\, com colaboração de Bernardo Guilherme\, Daisy Chaves e Juliana Peres\, direção de Oscar Francisco e Carla Bohler\, direção geral de Pedro Peregrino e direção artística de Carlos Araújo.[1] É a quinta adaptação da obra em formato de telenovela\, sendo a primeira versão da RecordTV em 1958\, seguida por duas da Rede Tupi em 1967 e 1977 e do SBT em 1994.\nConta com Glória Pires\, Antonio Calloni\, Nicolas Prattes\, Danilo Mesquita\, Giullia Buscacio\, André Luiz Frambach\, Carol Macedo e Susana Vieira nos papeis principais.\n\n \n\nNOTÍCIAS:\nhttps://oplanetatv.clickgratis.com.br/noticias/bastidores/conheca-mais-sobre-virginia-rosa-a-durvalina-de-eramos-seis.html\nhttps://observatoriodatelevisao.bol.uol.com.br/entrevista/2019/09/me-sinto-honrada-diz-virginia-rosa-sobre-viver-criada-dos-anos-1920-em-eramos-seis\nhttps://noticiasdetv.com/2019/08/12/conheca-durvalina-personagem-de-virginia-rosa-na-novela-eramos-seis/
URL:http://virginiarosa.com.br/events/eramos-seis/
CATEGORIES:Agenda,Agenda Home
ATTACH;FMTTYPE=image/jpeg:http://virginiarosa.com.br/wp-content/uploads/2019/09/Resumo-Eramos-Seis-novela-das-6-da-Globo.jpg
END:VEVENT
END:VCALENDAR