BEGIN:VCALENDAR
VERSION:2.0
PRODID:-//Virgínia Rosa - ECPv4.3.2//NONSGML v1.0//EN
CALSCALE:GREGORIAN
METHOD:PUBLISH
X-WR-CALNAME:Virgínia Rosa
X-ORIGINAL-URL:http://virginiarosa.com.br
X-WR-CALDESC:Events for Virgínia Rosa
BEGIN:VEVENT
DTSTART;VALUE=DATE:20210523
DTEND;VALUE=DATE:20210523
DTSTAMP:20260422T024654
CREATED:20210811T235239Z
LAST-MODIFIED:20210813T225753Z
UID:1246-1621728000-1621814399@virginiarosa.com.br
SUMMARY:EP #37: Especial Nelson Cavaquinho | Projeto "80 Homenagens Áureas"
DESCRIPTION:Projeto 80 Homenagens Áureas Episódio #37 - Show Virtual em Homenagem à Nelson Cavaquinho\n\n
URL:http://virginiarosa.com.br/events/ep-37-especial-nelson-cavaquinho-projeto-80-homenagens-aureas/
CATEGORIES:Agenda,Agenda Home
END:VEVENT
END:VCALENDAR