BEGIN:VCALENDAR
VERSION:2.0
PRODID:-//Virgínia Rosa - ECPv4.3.2//NONSGML v1.0//EN
CALSCALE:GREGORIAN
METHOD:PUBLISH
X-WR-CALNAME:Virgínia Rosa
X-ORIGINAL-URL:http://virginiarosa.com.br
X-WR-CALDESC:Events for Virgínia Rosa
BEGIN:VEVENT
DTSTART;VALUE=DATE:20201128
DTEND;VALUE=DATE:20201128
DTSTAMP:20260422T024722
CREATED:20210811T235034Z
LAST-MODIFIED:20210813T225739Z
UID:1244-1606521600-1606607999@virginiarosa.com.br
SUMMARY:EP #12: Especial Alcione | Projeto "80 Homenagens Áureas"
DESCRIPTION:Projeto 80 Homenagens Áureas Episódio #12 - Show Virtual em Homenagem à @Alcione Oficial\n\n
URL:http://virginiarosa.com.br/events/ep-12-especial-alcione-projeto-80-homenagens-aureas/
CATEGORIES:Agenda,Agenda Home
END:VEVENT
END:VCALENDAR