BEGIN:VCALENDAR
VERSION:2.0
PRODID:-//Virgínia Rosa - ECPv4.3.2//NONSGML v1.0//EN
CALSCALE:GREGORIAN
METHOD:PUBLISH
X-WR-CALNAME:Virgínia Rosa
X-ORIGINAL-URL:http://virginiarosa.com.br
X-WR-CALDESC:Events for Virgínia Rosa
BEGIN:VEVENT
DTSTART;TZID=UTC+0:20190327T210000
DTEND;TZID=UTC+0:20190327T223000
DTSTAMP:20260422T161317
CREATED:20190214T133121Z
LAST-MODIFIED:20190214T133121Z
UID:1196-1553720400-1553725800@virginiarosa.com.br
SUMMARY:BANDA MANTIQUEIRA CONVIDA VIRGÍNIA ROSA
DESCRIPTION:Show  BANDA MANTIQUEIRA CONVIDA VIRGÍNIA ROSA\n\n\nDia 27 de Março\n\nSão Paulo - SP\n\n\nSesc 24 de Maio\n\nQuarta-feira ás 21h
URL:http://virginiarosa.com.br/events/banda-mantiqueira-convida-virginia-rosa/
LOCATION:Rua 24 de Maio\, 109\, Centro\, São Paulo\, São Paulo\, Brasil
CATEGORIES:Agenda,Agenda Home
ATTACH;FMTTYPE=image/jpeg:http://virginiarosa.com.br/wp-content/uploads/2019/02/evento-1.jpg
END:VEVENT
END:VCALENDAR